0.005
0.0
0.0
-0.005
-126.0
50.0
